BEGIN:VCALENDAR
VERSION:2.0
PRODID:-//Aus- und Weiterbildung für Bibliotheken - ECPv6.15.17.1//NONSGML v1.0//EN
CALSCALE:GREGORIAN
METHOD:PUBLISH
X-ORIGINAL-URL:https://www.bibliotheksausbildung.at
X-WR-CALDESC:Veranstaltungen für Aus- und Weiterbildung für Bibliotheken
REFRESH-INTERVAL;VALUE=DURATION:PT1H
X-Robots-Tag:noindex
X-PUBLISHED-TTL:PT1H
BEGIN:VTIMEZONE
TZID:Europe/Vienna
BEGIN:DAYLIGHT
TZOFFSETFROM:+0100
TZOFFSETTO:+0200
TZNAME:CEST
DTSTART:20240331T010000
END:DAYLIGHT
BEGIN:STANDARD
TZOFFSETFROM:+0200
TZOFFSETTO:+0100
TZNAME:CET
DTSTART:20241027T010000
END:STANDARD
BEGIN:DAYLIGHT
TZOFFSETFROM:+0100
TZOFFSETTO:+0200
TZNAME:CEST
DTSTART:20250330T010000
END:DAYLIGHT
BEGIN:STANDARD
TZOFFSETFROM:+0200
TZOFFSETTO:+0100
TZNAME:CET
DTSTART:20251026T010000
END:STANDARD
BEGIN:DAYLIGHT
TZOFFSETFROM:+0100
TZOFFSETTO:+0200
TZNAME:CEST
DTSTART:20260329T010000
END:DAYLIGHT
BEGIN:STANDARD
TZOFFSETFROM:+0200
TZOFFSETTO:+0100
TZNAME:CET
DTSTART:20261025T010000
END:STANDARD
BEGIN:DAYLIGHT
TZOFFSETFROM:+0100
TZOFFSETTO:+0200
TZNAME:CEST
DTSTART:20270328T010000
END:DAYLIGHT
BEGIN:STANDARD
TZOFFSETFROM:+0200
TZOFFSETTO:+0100
TZNAME:CET
DTSTART:20271031T010000
END:STANDARD
END:VTIMEZONE
BEGIN:VEVENT
DTSTART;VALUE=DATE:20251104
DTEND;VALUE=DATE:20260217
DTSTAMP:20260426T042940
CREATED:20250613T114225Z
LAST-MODIFIED:20251021T074819Z
UID:10000078-1762214400-1771286399@www.bibliotheksausbildung.at
SUMMARY:Zertifikatskurs Bibliotheken führen
DESCRIPTION:Im digitalen Zeitalter werden Bibliotheken als Serviceeinrichtungen von neuen Entwicklungen geprägt. Das Zertifikatsprogramm zielt besonders auf solche Kenntnisse ab\, die für die Managementtätigkeit in Bibliotheken von Nutzen sind. \n\nAbschluss: Zertifikat der Universität Wien\nUmfang: 10 ECTS Credits\nDauer & Kosten: 1 Semester (berufsbegleitend)\, € 1.900\,-\n\n\n\n\n\n\nZielgruppe \nDas Zertifikatsprogramm richtet sich an Personen\, die den Universitätslehrgang „Library and Information Studies“ bzw. eine andere vergleichbare facheinschlägige Ausbildung absolviert haben und diese vor mindestens fünf Jahren abgeschlossen haben. \n\n\n\n\n\n\n\n\n\n\nQualifikationsprofil \nDie Teilnehmer*innen sollen ihre Kenntnisse auffrischen\, die sie im Rahmen einer mindestens fünf Jahre zurückliegenden facheinschlägigen Ausbildung erworben haben. Sie setzen sich mit den aktuellen Entwicklungen im Bibliothekswesen unter dem Aspekt des Bibliotheksmanagements\, bzw. des Bestandsmanagements auseinander und erhalten einen Überblick über die informationspolitische Gesamtentwicklung sowie die in Österreich vorherrschenden Strategien oder zukünftigen Entwicklungen.
URL:https://www.bibliotheksausbildung.at/meine-veranstaltung/zertifikatskurs-bibliotheken-fuehre/
LOCATION:DLE Bibliotheks- und Archivwesen\, Universität Wien\,\, Universitätsring 1\, Wien\, 1010
CATEGORIES:Zertifikatskurs
ATTACH;FMTTYPE=image/jpeg:https://www.bibliotheksausbildung.at/wp-content/uploads/2024/10/20190211_HG_Seminarraeume_neu_Gang_C_Barbara_Mair_022-min-scaled-e1742553042342.jpg
END:VEVENT
BEGIN:VEVENT
DTSTART;TZID=Europe/Vienna:20260203T090000
DTEND;TZID=Europe/Vienna:20260203T120000
DTSTAMP:20260426T042940
CREATED:20251017T135112Z
LAST-MODIFIED:20260113T133012Z
UID:10000088-1770109200-1770120000@www.bibliotheksausbildung.at
SUMMARY:Didaktische Konzepte für Datenbanktrainings - AUSGEBUCHT
DESCRIPTION:Dieses Seminar beschäftigt sich damit\, wie Bibliothekar*innen Nutzer*innen dabei unterstützen können\, Recherchen in komplexen Datenbanken effizient und effektiv durchzuführen. In diesem Seminar lernen die Teilnehmenden\, wie sie ihr Fachwissen so an fachfremde Nutzer*innen weitergeben können\, dass diese möglichst viele Inhalte mitnehmen\, um später selbständig und erfolgreich in Datenbanken recherchieren zu können. \nLernziele: Am Ende des Workshops sind die Teilnehmenden im Stande \n\nWie sich ein Datenbanktraining didaktisch aufbauen lässt\nWie ein erfolgreicher Wissenstransfer zwischen der bibliothekarischen Fachsprache und fachfremden Nutzern gelingt\nWelche Lerntypen es gibt und mit welchen Methoden welche Lerntypen optimal lernen\nWie lassen sich komplexe Datenbanken und eine Suchsyntax praxisnah erklären\n\nMethoden: Vortrag\, Diskussionsforum\, Fallbeispiele \nVeranstaltungsort: ONLINE \nZielgruppe: Bibliothekar*innen und Fachreferent*innen\, die Datenbankschulungen durchführen \nVortragende: Dr. Monika Reaper | Wissensmanagerin \nAnmeldeschluss: 24.02.2026 \nAnmeldungIch stimme der Verarbeitung meiner Daten gemäß der aktuell gültigen Datenschutzerklärung der Universitäts- und Landesbibliothek Tirol zu: https://www.uibk.ac.at/de/ulb/datenschutzinformation/  SendenVielen Dank! Ihre Nachricht wurde erfolgreich übermittelt. Wir werden uns so schnell wie möglich bei Ihnen melden. Ihr Team der ULB Tirol×Es gab ein Problem beim Senden Ihrer Nachricht. Bitte versuchen Sie es später erneut oder kontaktieren Sie uns direkt unter ulg-lis@uibk.ac.at×
URL:https://www.bibliotheksausbildung.at/meine-veranstaltung/didaktische-konzepte-fuer-datenbanktrainings/
LOCATION:Online Veranstaltung
CATEGORIES:4L - Fortbildung
ATTACH;FMTTYPE=image/jpeg:https://www.bibliotheksausbildung.at/wp-content/uploads/2016/03/csm_20190211_HG_Seminarraeume_neu_C_Barbara_Mair_019_a17821d3bd-e1760715704862.jpg
ORGANIZER;CN="ULB Tirol":MAILTO:ulg-lis@uibk.ac.at
END:VEVENT
BEGIN:VEVENT
DTSTART;TZID=Europe/Vienna:20260203T090000
DTEND;TZID=Europe/Vienna:20260203T130000
DTSTAMP:20260426T042941
CREATED:20251021T074325Z
LAST-MODIFIED:20251104T135058Z
UID:10000093-1770109200-1770123600@www.bibliotheksausbildung.at
SUMMARY:Urheberrecht\, Zitate und Plagiate
DESCRIPTION:Wann darf ich welche Inhalte verwenden\, wie zitiere ich richtig und wie erkenn ich ein Plagiat? Dieses Seminar behandelt die Grundlagen des österreichischen Urheberrechts\, bringt Beispiele aus der Praxis und gibt Tipps zum rechtlich korrekten Zitieren. \nInhaltliche Schwerpunkte: Grundlagen des österreichischen Urheberrechts\, Praxisbeispiele\, freie Werknutzungen\, Zitaterecht und Anleitung zum rechtlich korrekten Zitieren \nVoraussetzungen: Keine \nWo: Kleiner Kursraum\, Bibliotheksdirektion\, Universität Wien\, Universitätsring 1 \nAnmeldeschluss: 24.01.2026 \nAnmeldelink: https://univie.eventsair.com/sem4lwise2025/urheberrecht-zitate-plagiate
URL:https://www.bibliotheksausbildung.at/meine-veranstaltung/urheberrecht-zitate-und-plagiate/
LOCATION:DLE Bibliotheks- und Archivwesen\, Universität Wien\,\, Universitätsring 1\, Wien\, 1010
CATEGORIES:4L - Fortbildung
ATTACH;FMTTYPE=image/jpeg:https://www.bibliotheksausbildung.at/wp-content/uploads/2025/10/AdobeStock_38266333-scaled.jpeg
END:VEVENT
BEGIN:VEVENT
DTSTART;TZID=Europe/Vienna:20260210T130000
DTEND;TZID=Europe/Vienna:20260210T170000
DTSTAMP:20260426T042941
CREATED:20251021T072635Z
LAST-MODIFIED:20251104T135029Z
UID:10000090-1770728400-1770742800@www.bibliotheksausbildung.at
SUMMARY:Lampenfieber ade! Wirkungsvolle Tipps & Tricks gegen Nervosität
DESCRIPTION:Für Sie gehört Sprechen zum beruflichen Alltag\, doch bei fehlender Routine kann das Sprechen vor einer großen Personenanzahl schnell zu Lampenfieber und Stress führen. Dieser Workshop erlaubt es Ihnen\, mit praktischen Übungen aus dem Mentaltraining\, Atem- und Sprechtechnik an Ihrer Souveränität als Vortragende*r zu arbeiten. \nWo: Kleiner Kursraum\, Bibliotheksdirektion\, Universitätsring 1 \nTrainerin: Dagmar Kutzenberger\, Schauspielerin und Sprecherin. Website mit Sprechbeispielen: https://www.mikrostimme.at/ \nAnmeldeschluss: 23.01.2026 \nAnmeldelink: https://univie.eventsair.com/sem4lwise2025/lampenfieber-ade
URL:https://www.bibliotheksausbildung.at/meine-veranstaltung/lampenfieber-ade-wirkungsvolle-tipps-tricks-gegen-nervositaet/
LOCATION:DLE Bibliotheks- und Archivwesen\, Universität Wien\,\, Universitätsring 1\, Wien\, 1010
CATEGORIES:4L - Fortbildung
ATTACH;FMTTYPE=image/jpeg:https://www.bibliotheksausbildung.at/wp-content/uploads/2025/10/AdobeStock_108526339-scaled.jpeg
END:VEVENT
BEGIN:VEVENT
DTSTART;TZID=Europe/Vienna:20260211T090000
DTEND;TZID=Europe/Vienna:20260211T130000
DTSTAMP:20260426T042941
CREATED:20251021T071721Z
LAST-MODIFIED:20251111T110542Z
UID:10000089-1770800400-1770814800@www.bibliotheksausbildung.at
SUMMARY:Stimmstark & Stimmfit: Kleine Veränderungen\, große Wirkung!
DESCRIPTION:Für Sie gehört Sprechen zum beruflichen Alltag. Dieser Workshop erlaubt es Ihnen\, mit praktischen Übungen an unterschiedlichen Aspekten des Sprechens zu arbeiten. \nTrainerin: Dagmar Kutzenberger\, Schauspielerin und Sprecherin. Website mit Sprechbeispielen: https://www.mikrostimme.at/ \nAmeldeschluss: 23.01.2026 \nAnmeldelink: https://univie.eventsair.com/sem4lwise2025/stimmstark-stimmfit
URL:https://www.bibliotheksausbildung.at/meine-veranstaltung/stimmstark-stimmfit-kleine-veraenderungen-grosse-wirkung/
LOCATION:DLE Bibliotheks- und Archivwesen\, Universität Wien\,\, Universitätsring 1\, Wien\, 1010
CATEGORIES:4L - Fortbildung
ATTACH;FMTTYPE=image/jpeg:https://www.bibliotheksausbildung.at/wp-content/uploads/2025/10/AdobeStock_865253436-scaled.jpeg
ORGANIZER;CN="Claudia Hausberger MSc":MAILTO:claudia.hausberger@univie.ac.at
END:VEVENT
BEGIN:VEVENT
DTSTART;TZID=Europe/Vienna:20260212T083000
DTEND;TZID=Europe/Vienna:20260214T173000
DTSTAMP:20260426T042941
CREATED:20251203T140004Z
LAST-MODIFIED:20251203T142640Z
UID:10000482-1770885000-1771090200@www.bibliotheksausbildung.at
SUMMARY:Change-Management
DESCRIPTION:Das Wahlfach Change-Management aus der fachlichen Spezialisierung des Masterprogrammes Library and Information Studies vermittelt vertiefende Kenntnisse zu Planung und Umsetzung von Veränderungsprozessen in Bibliotheken.  \nDiese Lehrveranstaltungen werden von der Universität Wien in Kooperation mit der Österreichischen Nationalbibliothek angeboten. \nInhaltliche Schwerpunkte: \n\nGrundlagen des Change-Managements\nAuswirkungen von Veränderungsprozessen innerhalb der Organisation (Teamorganisation\, Arbeitsworkflows\, Arbeitsplatz u.a.)\nStrategische Planung und Umsetzung von Veränderungsprozessen\nCase Studies\n\nMethoden: Vorlesung mit Übung (VU). Abhaltung vor Ort.  LV-Typ: Prüfungsimmanente Lehrveranstaltung (pi). Die Leistungsbeurteilung setzt sich aus mündlich oder schriftlich zu erbringenden Teilleistungen zusammen. \nAbschluss: Sammelzeugnis der Universität Wien über 3 ECTS / 2 Semesterstunden \nZielgruppe: Bibliothekar*innen. \nVoraussetzungen: abgeschlossenes Hochschulstudium in einem Mindestausmaß von 180 ECTS. \nVortragende:  Mag. Dr. Andreas Brandtner MAS MSc MBA \nTermine: \n12.02.2026 bis 14.02.2026 – 08.30 -17.30 Uhr \nOrt: Universitätsbibliothek Wien / Kleiner Kursraum \nWICHTIGE ZUSATZINFORMATIONEN: \nSie werden für ein Semester als Modulbucher*in (außerordentliche Studierende) an der Universität Wien inskribiert und erhalten mit dem positiven Abschluss der Lehrveranstaltung ECTS-Punkte. Die Lehrveranstaltung kann im Universitätslehrgang Library and Information Studies anerkannt werden. \nAnmeldung: Bei Interesse informieren Sie uns bitte bis spätestens 06.01.2025 per E-Mail: alina.rezniczek@univie.ac.at und cc: an magdalena.fellinger@onb.ac.at\, benjamin.eichhorn@onb.ac.at \nIm Anschluss und nach Maßgabe der vorhandenen Plätze erhalten Sie von uns den Anmeldelink ebenfalls via Mail. (Kontaktdaten siehe oben) \n\nKursplätze: 3\nKosten: EUR 600\,-\nAnmeldeschluss: 06.01.2026
URL:https://www.bibliotheksausbildung.at/meine-veranstaltung/change-management/
LOCATION:Universitätsbibliothek Wien\, Universitätsring 1\, 1010 Wien\, Wien\, Austria
CATEGORIES:Wahlbereiche und -fächer a.o. Masterstudium
ATTACH;FMTTYPE=image/jpeg:https://www.bibliotheksausbildung.at/wp-content/uploads/2016/03/course_economics_portfolio_feat.jpg
END:VEVENT
END:VCALENDAR