BEGIN:VCALENDAR
VERSION:2.0
PRODID:-//Aus- und Weiterbildung für Bibliotheken - ECPv6.15.17.1//NONSGML v1.0//EN
CALSCALE:GREGORIAN
METHOD:PUBLISH
X-ORIGINAL-URL:https://www.bibliotheksausbildung.at
X-WR-CALDESC:Veranstaltungen für Aus- und Weiterbildung für Bibliotheken
REFRESH-INTERVAL;VALUE=DURATION:PT1H
X-Robots-Tag:noindex
X-PUBLISHED-TTL:PT1H
BEGIN:VTIMEZONE
TZID:Europe/Vienna
BEGIN:DAYLIGHT
TZOFFSETFROM:+0100
TZOFFSETTO:+0200
TZNAME:CEST
DTSTART:20250330T010000
END:DAYLIGHT
BEGIN:STANDARD
TZOFFSETFROM:+0200
TZOFFSETTO:+0100
TZNAME:CET
DTSTART:20251026T010000
END:STANDARD
BEGIN:DAYLIGHT
TZOFFSETFROM:+0100
TZOFFSETTO:+0200
TZNAME:CEST
DTSTART:20260329T010000
END:DAYLIGHT
BEGIN:STANDARD
TZOFFSETFROM:+0200
TZOFFSETTO:+0100
TZNAME:CET
DTSTART:20261025T010000
END:STANDARD
BEGIN:DAYLIGHT
TZOFFSETFROM:+0100
TZOFFSETTO:+0200
TZNAME:CEST
DTSTART:20270328T010000
END:DAYLIGHT
BEGIN:STANDARD
TZOFFSETFROM:+0200
TZOFFSETTO:+0100
TZNAME:CET
DTSTART:20271031T010000
END:STANDARD
END:VTIMEZONE
BEGIN:VEVENT
DTSTART;TZID=Europe/Vienna:20260112T100000
DTEND;TZID=Europe/Vienna:20260123T130000
DTSTAMP:20260422T214210
CREATED:20250825T122917Z
LAST-MODIFIED:20251126T133925Z
UID:10000082-1768212000-1769173200@www.bibliotheksausbildung.at
SUMMARY:Grundlagen der Formalerschließung nach RDA in MARC21 mit Alma - Online
DESCRIPTION:Der Workshop bietet eine Einführung in die Formalerfassung nach dem Regelwerk RDA. Durch zahlreiche praktische Übungen im Bibliothekssystem Alma und im Format MARC21 haben die Teilnehmenden die Möglichkeit\, die theoretischen Grundlagen in die Praxis umzusetzen. \nZielgruppe: Formalerschließungs-Anfänger*innen\, Interessierte mit Erfahrung in alten Systemen/Regelwerken/Formaten \nVoraussetzungen: keine \nTermine: 12.1.\, 14.1.\, 16.01.\, 19.01.\, 21.01.\, 23.01.2026 jeweils 10:00 – 13:30 Uhr \nOrt: Online-Seminar. Sie erhalten den Link kurz vor dem Seminar. \nVortragende: Mag. Isolde Baum\, Mag. Barbara Retschnig\, Mag. Bernhard Schubert\, BA MSc \nAnmeldelink: https://univie.eventsair.com/sem4lwise2025/grundlagenformalerschliessung/Site/Register
URL:https://www.bibliotheksausbildung.at/meine-veranstaltung/grundlagen-der-formalerschliessung-nach-rda-in-marc21-mit-alma-online/
LOCATION:DLE Bibliotheks- und Archivwesen\, Universität Wien\,\, Universitätsring 1\, Wien\, 1010
CATEGORIES:4L - Fortbildung
ATTACH;FMTTYPE=image/jpeg:https://www.bibliotheksausbildung.at/wp-content/uploads/2025/08/proxy-image.jpg
END:VEVENT
BEGIN:VEVENT
DTSTART;TZID=Europe/Vienna:20260116T140000
DTEND;TZID=Europe/Vienna:20260116T171500
DTSTAMP:20260422T214210
CREATED:20250828T101543Z
LAST-MODIFIED:20260112T071429Z
UID:10000085-1768572000-1768583700@www.bibliotheksausbildung.at
SUMMARY:Kurrentschrift für Fortgeschrittene
DESCRIPTION:In diesem Kurs beschäftigen wir uns mit den Kurrentschriften des 16. bis 18. Jahrhunderts und mit der Bastarda\, dem spätmittelalterlichen Vorläufer der Kurrentschrift. Anhand zahlreicher Textbeispiele üben Sie das Lesen der unterschiedlichen Schrifttypen. \nZielgruppe: Bibliothekar:innen\, Archivar:innen und alle\, die sich für historische Handschriften interessieren \nVoraussetzungen: Kenntnis der Kurrentschriften des 19. und 20. Jahrhunderts (z.B. durch Teilnahme am Kurs „Kurrentschrift für Einsteiger:innen“)\, wie sie beispielsweise in folgenden zwei Texten zu sehen sind (frei verfügbar über die Website der Wienbibliothek im Rathaus) \nVortragende: MMag. Karin Lackner \nTermin: 16. Jänner 2026\, von 14:00 – 17:15 Uhr \nUmfang: 4 UE á 45 Minuten \nOrt:  Seminarraum 62.31\, Universitätsplatz 3a (3.OG)\, 8010 Graz \nKursplätze: 15 \nAnmeldeschluss: 14.01.2026 \nZur Anmeldung
URL:https://www.bibliotheksausbildung.at/meine-veranstaltung/kurrentschrift-fuer-fortgeschrittene/
LOCATION:Universitätsbibliothek Graz\, Universitätsplatz 3\, Graz\, 8010\, Austria
CATEGORIES:4L - Fortbildung
ATTACH;FMTTYPE=image/jpeg:https://www.bibliotheksausbildung.at/wp-content/uploads/2025/08/IMG_5740_edited-scaled-e1760715495366.jpg
ORGANIZER;CN="UB Graz":MAILTO:ub.fortbildung@uni-graz.at
END:VEVENT
BEGIN:VEVENT
DTSTART;TZID=Europe/Vienna:20260120T090000
DTEND;TZID=Europe/Vienna:20260120T170000
DTSTAMP:20260422T214210
CREATED:20251021T073309Z
LAST-MODIFIED:20260119T100954Z
UID:10000091-1768899600-1768928400@www.bibliotheksausbildung.at
SUMMARY:Benutzungsforschung in Bibliotheken - Nutzendenfokus mit Hilfe des User Experience-Baukastens
DESCRIPTION:Wie können Sie das Angebot Ihrer Bibliothek bedürfnisorientiert für Ihre Nutzenden gestalten? User Experience (UX) Methoden bieten Bibliotheken die Möglichkeit\, die Perspektive ihrer Nutzenden einzunehmen\, ihre Wünsche und ihren Bedarf zu erforschen und die eigene Einrichtung mit anderen Augen zu sehen. \nInhaltliche Schwerpunkte: Sie lernen Methoden der Benutzungsforschung kennen und ihre Möglichkeiten für den Einsatz in Bibliotheken. Insbesondere die aus der Ethnografie stammenden Methoden bieten oftmals niedrigschwellige\, leicht zu implementierende Möglichkeiten\, sich ein umfassenderes Bild über die Gewohnheiten und Wünsche Ihrer Nutzenden zu machen. Sie erhalten durch praktisches Ausprobieren einen Einstieg in das Themenfeld. So können Sie geeignete Methoden für Studien in Ihrer Bibliothek auswählen \nMethoden: Einzelarbeit; Datensammlung und -auswertung in kleinen Arbeitsgruppen \nZielgruppe: Kolleg*innen\, die an angewandter Benutzungsforschung in Bibliotheken interessiert sind. \nOrt: Kleiner Kursraum\, Bibliotheksdirektion\, Universitätsring 1\, 1010 Wien \nVortragende: Nicole Clasen\, Leiterin der Benutzungsabteilung der Universitätsbibliothek TU Hamburg. \nAnmeldeschluss: 10.01.2026 \nAnmeldelink: https://univie.eventsair.com/sem4lwise2025/benutzungsforschung
URL:https://www.bibliotheksausbildung.at/meine-veranstaltung/benutzungsforschung-in-bibliotheken/
LOCATION:DLE Bibliotheks- und Archivwesen\, Universität Wien\,\, Universitätsring 1\, Wien\, 1010
CATEGORIES:4L - Fortbildung
ATTACH;FMTTYPE=image/jpeg:https://www.bibliotheksausbildung.at/wp-content/uploads/2025/10/AdobeStock_331629948-scaled.jpeg
END:VEVENT
BEGIN:VEVENT
DTSTART;TZID=Europe/Vienna:20260120T090000
DTEND;TZID=Europe/Vienna:20260121T123000
DTSTAMP:20260422T214210
CREATED:20251017T101933Z
LAST-MODIFIED:20251202T141811Z
UID:10000087-1768899600-1768998600@www.bibliotheksausbildung.at
SUMMARY:Erfolgreich durch den Wandel – Changemanagement in KI Projekten von Bibliotheken - AUSGEBUCHT
DESCRIPTION:Viele Bibliotheken setzen bereits Künstliche Intelligenz ein oder planen KI-Tools einzuführen. Auch wenn die Entwicklung oder Lizensierung und technische Implementierung in den meisten KI-Projekten reibungslos verläuft\, besteht die Gefahr\, dass neue KI-Tools von den Nutzenden nicht angenommen und genutzt werden. Ein projektbegleitendes Changemanagement kann hier Abhilfe schaffen. \nDer Workshop bietet eine Einführung in das Changemanagement bei KI-Projekten in Bibliotheken. Neben den grundlegenden Begriffen werden Rahmenbedingungen für einen erfolgreichen Change vorgestellt\, und Change-Maßnahmen aufgezeigt. Eine besondere Rolle bei Veränderungen spielt der menschliche Faktor. Im Workshop werden Stakeholdergruppen und Persönlichkeitstypen identifiziert\, sowie Strategien zur Einbeziehung der Beteiligten und Beseitigung von Widerständen ermittelt. Hilfestellungen zur Planung von Change-Maßnahmen runden die Veranstaltung ab. \nInhaltliche Schwerpunkte: Grundlagen des Changemanagements; Rahmenbedingungen für erfolgreiche Veränderungen; Information und Kommunikation im Change-Prozess; Stakeholdermanagement im Veränderungsprozess; Identifizierung von Betroffenentypen und Entwicklung von Strategien zum Umgang; Aktivitäten im Changemanagement; Change-Plan \nIn diesem Workshop lernen die Teilnehmenden: \n\nGrundlegende Begriffe im Changemanagement kennen und anwenden.\nRahmenbedingungen für erfolgreiche Veränderungen kennen.\nKommunikation im Veränderungsprozess einzusetzen.\nStakeholdergruppen und ihre Rollen in KI-Projekten zu ermitteln.\nPersönlichkeitstypen kennen und identifizieren.\nAktivitäten im Changemanagement kennen und planen.\nEinen Change-Plan für KI-Projekte zu erstellen.\n\nMethoden (falls spezifische Methoden eingesetzt werden) Vortrag\, Diskussion\, Übungsaufgaben\, Arbeitsgruppen \nZielgruppe: Dieser Workshop richtet sich an Führungskräfte\, Projektmanager*innen\, IT-Mitarbeiter*innen und Interessierte in Bibliotheken und Informationseinrichtungen\, die KI-Projekte durchführen. \nPlätze: 15 \nVoraussetzungen: keine \nVortragende: Anne Jacobs \nTermin: Di./Mi. 20. und 21.01.2026\, jeweils von 09:00-12:30 Uhr; online \nDer Online-Link zum Unterrichtsraum wird knapp vor dem ersten Termin an alle Teilnehmer*innen per E-Mail versandt. \nAnmeldeschluss: 10.01.2026 \nZur Anmeldung
URL:https://www.bibliotheksausbildung.at/meine-veranstaltung/erfolgreich-durch-den-wandel/
LOCATION:Universitätsbibliothek Graz\, Universitätsplatz 3\, Graz\, 8010\, Austria
CATEGORIES:4L - Fortbildung
ATTACH;FMTTYPE=image/jpeg:https://www.bibliotheksausbildung.at/wp-content/uploads/2016/03/english_seminar_event_feat-e1742557863558.jpg
ORGANIZER;CN="UB Graz":MAILTO:ub.fortbildung@uni-graz.at
END:VEVENT
END:VCALENDAR