BEGIN:VCALENDAR
VERSION:2.0
PRODID:-//Aus- und Weiterbildung für Bibliotheken - ECPv6.15.17.1//NONSGML v1.0//EN
CALSCALE:GREGORIAN
METHOD:PUBLISH
X-WR-CALNAME:Aus- und Weiterbildung für Bibliotheken
X-ORIGINAL-URL:https://www.bibliotheksausbildung.at
X-WR-CALDESC:Veranstaltungen für Aus- und Weiterbildung für Bibliotheken
REFRESH-INTERVAL;VALUE=DURATION:PT1H
X-Robots-Tag:noindex
X-PUBLISHED-TTL:PT1H
BEGIN:VTIMEZONE
TZID:Europe/Vienna
BEGIN:DAYLIGHT
TZOFFSETFROM:+0100
TZOFFSETTO:+0200
TZNAME:CEST
DTSTART:20250330T010000
END:DAYLIGHT
BEGIN:STANDARD
TZOFFSETFROM:+0200
TZOFFSETTO:+0100
TZNAME:CET
DTSTART:20251026T010000
END:STANDARD
BEGIN:DAYLIGHT
TZOFFSETFROM:+0100
TZOFFSETTO:+0200
TZNAME:CEST
DTSTART:20260329T010000
END:DAYLIGHT
BEGIN:STANDARD
TZOFFSETFROM:+0200
TZOFFSETTO:+0100
TZNAME:CET
DTSTART:20261025T010000
END:STANDARD
BEGIN:DAYLIGHT
TZOFFSETFROM:+0100
TZOFFSETTO:+0200
TZNAME:CEST
DTSTART:20270328T010000
END:DAYLIGHT
BEGIN:STANDARD
TZOFFSETFROM:+0200
TZOFFSETTO:+0100
TZNAME:CET
DTSTART:20271031T010000
END:STANDARD
END:VTIMEZONE
BEGIN:VEVENT
DTSTART;TZID=Europe/Vienna:20260608T083000
DTEND;TZID=Europe/Vienna:20260618T173000
DTSTAMP:20260426T054424
CREATED:20251203T134201Z
LAST-MODIFIED:20260304T085620Z
UID:10000472-1780907400-1781803800@www.bibliotheksausbildung.at
SUMMARY:Bibliotheksinformatik
DESCRIPTION:Der Wahlbereich Bibliotheksinformatik aus der fachlichen Spezialisierung des Universitätslehrganges Library and Information Studies vermittelt in zwei Lehrveranstaltungen vertiefende Kenntnisse zu den Themenbereichen Künstliche Intelligenz und Social Media mit Best Practice-Beispiele für Bibliotheken.  \nDiese Lehrveranstaltungen werden von der Universität Wien in Kooperation mit der Österreichischen Nationalbibliothek angeboten. \nInhaltliche Schwerpunkte: \n7a.4.1 Künstliche Intelligenz in Bibliotheken (3 ECTS\, 2 Semesterstunden) \n\nEinführung in KI: von der Kybernetik zur Künstlichen Intelligenz\nMechanismen\, Algorithmen\, Logik und Technologien der Künstlichen Intelligenz\nAnwendung von \, Social Media\, Story\, ULG\nKünstlicher Intelligenz in Bibliotheken\nUse Cases zu Künstlicher Intelligenz-Anwendungen\n\n 7a.4.2 Media-Lab (3 ECTS\, 2 Semesterstunden) \n\nErarbeitung einer Story im Bibliothekskontext\nErstellung von zielgruppenorientierten Social Media Angeboten\nSuchmaschinenoptimierung\nFeedback und Nutzungsanalyse\nIntegration von Social Media Angeboten in Bibliotheken\nBarrierefreiheit und Inklusion\n\n  \nMethoden: Vorlesung mit Übung (VU). Abhaltung vor Ort.  LV-Typ: Prüfungsimmanente Lehrveranstaltung (pi). Die Leistungsbeurteilung setzt sich aus mündlich oder schriftlich zu erbringenden Teilleistungen zusammen. \nAbschluss: Sammelzeugnis der Universität Wien über 6 ECTS / 4 Semesterstunden \nZielgruppe: Bibliothekar*innen. \nVoraussetzungen: allgemeine Universitätsreife gemäß dem Universitätsgesetz 2002 idgF. \nVortragende:  Mag. Martin Gasteiner / UBW\, Mag. Marlene Lettner / ÖNB\, Christopher Pollin BA MA MA / Universität Graz\, Mag. Christian Steiner MA / Universität Graz\, \nTermine: \n\n7a.4.1: 08.06.2026 bis 10.06.2026 von 8:30 -17:30 Uhr\n7a.4.2 : 16.06.2026 bis 18.06.2026 von 8:30 -17:30 Uhr\n\nOrt: Ausbildungszentrum der Österreichische Nationalbibliothek \nWICHTIGE ZUSATZINFORMATIONEN: \nSie werden für ein Semester als Modulbucher*in (außerordentliche Studierende) an der Universität Wien inskribiert und erhalten mit dem positiven Abschluss der Lehrveranstaltung ECTS-Punkte. Die Lehrveranstaltung kann im Universitätslehrgang Library and Information Studies anerkannt werden. \nAnmeldung: Bei Interesse informieren Sie uns bitte bis spätestens 15.05.2026 per E-Mail: alina.rezniczek@univie.ac.at und cc: an magdalena.fellinger@onb.ac.at\, benjamin.eichhorn@onb.ac.at \nIm Anschluss und nach Maßgabe der vorhandenen Plätze erhalten Sie von uns den Anmeldelink ebenfalls via Mail. (Kontaktdaten siehe oben) \n\nKursplätze:\nKosten: EUR 1.200\,-\nAnmeldeschluss: 15.05.2026
URL:https://www.bibliotheksausbildung.at/meine-veranstaltung/bibliotheksinformatik/
LOCATION:Österreichische Nationalbibliothek\, Josefsplatz 1\, 1015 Wien\, Austria
CATEGORIES:Wahlbereiche und -fächer ULG
ATTACH;FMTTYPE=image/jpeg:https://www.bibliotheksausbildung.at/wp-content/uploads/2024/10/20200624_Digitalisierung_Meeting_02_C_derknopdruecker_com_cropped-min-scaled-e1742559394844.jpg
END:VEVENT
BEGIN:VEVENT
DTSTART;TZID=Europe/Vienna:20260615T100000
DTEND;TZID=Europe/Vienna:20260626T133000
DTSTAMP:20260426T054424
CREATED:20250429T120553Z
LAST-MODIFIED:20260416T065157Z
UID:10000069-1781517600-1782480600@www.bibliotheksausbildung.at
SUMMARY:Grundlagen der Formalerschließung nach RDA in MARC21 mit Alma
DESCRIPTION:Inhaltliche Schwerpunkte: \nDer Workshop bietet eine Einführung in die Formalerfassung nach dem Regelwerk RDA. Durch zahlreiche praktische Übungen im Bibliothekssystem Alma und im Format MARC21 haben die Teilnehmenden die Möglichkeit\, die theoretischen Grundlagen in die Praxis umzusetzen. \nZielgruppe: Formalerschließungs-Anfänger*innen\, Interessierte mit Erfahrung in alten Systemen/Regelwerken/Formaten \nVoraussetzungen: keine \nTermine: 15.06.\, 17.6.\, 19.06.\, 22.06.\, 24.06.\, 26.06.2026 jeweils 10:00 – 13:30 Uhr \nOrt: Online-Seminar. Der Link befindet sich in Moodle. \nVortragende: Mag. Isolde Baum\, Mag. Barbara Retschnig\, Mag. Bernhard Schubert\, BA MSc \nAnmeldelink: https://univie.eventsair.com/sem4lsose2026/grundlagenformalerschlieung\n \nAnmeldeschluss: 7. Juni 2026
URL:https://www.bibliotheksausbildung.at/meine-veranstaltung/grundlagen-der-formalerschliessung-nach-rda-in-marc21-mit-alma/
LOCATION:DLE Bibliotheks- und Archivwesen\, Universität Wien\,\, Universitätsring 1\, Wien\, 1010
CATEGORIES:4L - Fortbildung
ATTACH;FMTTYPE=image/jpeg:https://www.bibliotheksausbildung.at/wp-content/uploads/2025/03/csm_unigraz_2022_ub_graz_Lesesaal_by_tzivanopoulos_web-20_bdc75e2d81.jpg
ORGANIZER;CN="Claudia Hausberger MSc":MAILTO:claudia.hausberger@univie.ac.at
END:VEVENT
BEGIN:VEVENT
DTSTART;TZID=Europe/Vienna:20260617T090000
DTEND;TZID=Europe/Vienna:20260618T123000
DTSTAMP:20260426T054424
CREATED:20260312T125010Z
LAST-MODIFIED:20260424T141913Z
UID:10000488-1781686800-1781785800@www.bibliotheksausbildung.at
SUMMARY:Wissensmanagement in Bibliotheken
DESCRIPTION:Wissen ist auch für Bibliotheken ein erheblicher Erfolgsfaktor. Ziel des Wissensmanagement ist es\, sämtliches Wissen einer Organisation zu sammeln\, aufzubereiten und allen Beteiligten verfügbar zu machen. Hierdurch soll das vorhandene Know-how bestmöglich genutzt werden. Wissensmanagement trägt somit zur Effizienzsteigerung bei. Gerade in Zeiten des demografischen\nWandels und Fachkräftemangels sichert es einen reibungslosen Ablauf der Bibliotheksorganisation. Der Workshop bietet einen Einblick in das Wissensmanagement speziell für Bibliotheken. Nach einer Einführung in die Thematik werden einzelnen Methoden zur Organisation des expliziten Wissens dargestellt und aufgezeigt\, wie implizites Wissen erfasst und weitergeben werden kann. Im Anschluss wird auf interne und externe Netzwerke eingegangen und die Bedeutung von Personalentwicklung und Wissenstransfer für das Wissensmanagement besprochen. Hinweise zum KI-Einsatz zur Unterstützung des Wissensmanagements werden gegeben. Erste Schritte zum Aufbau eines Wissensmanagements runden den Workshop ab. \n\nEinführung in das Wissensmanagement\nExplizites Wissen organisieren\nImplizites Wissen erfassen und verbreiten\nWissensnetzwerke & Beziehungen\nWissensmanagement und Personalentwicklung\nWissenstransfer beim On- und Offboarding\nWissensmanagement in Projekten\nKI-Tools zur Unterstützung im Wissensmanagement\nWissensziele und erste Schritte zum Start mit Wissensmanagement in der Bibliothek\n\nLernziele:\nIn diesem Workshop lernen die Teilnehmer:innen: \n\nGrundlegende Begriffe des Wissensmanagement kennen\nEinzelne Werkzeuge im Wissensmanagement kennen und anwenden\nExplizites Wissen zu organisieren\nImplizites Wissen zu erfassen und weiterzugeben\nWissensnetzwerke aufzubauen und zu nutzen\nGrundlagen des Wissenstransfer kennen und anwenden\nWissen aus Projekten zu sichern\nWissensmanagement in der Bibliothek einzuführen.\n\n  \nMethoden:\nVortrag\, Diskussion\, Übungen\, Arbeitsgruppen \nZielgruppe:\nDieser Workshop richtet sich an Führungskräfte und Mitarbeitende in Bibliotheken\, die\nin ihrer Institution Wissensmanagement betreiben und einsetzen möchten. \nTeilnehmerzahl:\nMax. 15 Personen \nWichtige Informationen zur Anmeldung: \nUnter folgendem Link geht es direkt zur Anmeldung: Seminarprogramm – Universitätsbibliothek \nWICHTIGE ZUSATZINFORMATIONEN: \n\nBei Kreditkartenzahlung achten Sie bitte darauf\, dass Sie die richtige Rechnungsadresse angegeben haben!\nDie Rechnung kann auch von uns\, z. B. an Ihre:n Arbeitger:in\, ausgestellt werden! Bitte wenden Sie sich in diesem Fall für die Anmeldung an ub.fortbildung@uni-graz.at\nBitte kontaktieren Sie uns bei allfälligen Fragen! (Kontaktdaten siehe unten)
URL:https://www.bibliotheksausbildung.at/meine-veranstaltung/__trashed/
LOCATION:Online Veranstaltung
CATEGORIES:4L - Fortbildung
ATTACH;FMTTYPE=image/jpeg:https://www.bibliotheksausbildung.at/wp-content/uploads/2016/03/Teaching_Librarian__UniWien-e1742559906305.jpg
ORGANIZER;CN="UB Graz":MAILTO:ub.fortbildung@uni-graz.at
END:VEVENT
END:VCALENDAR