BEGIN:VCALENDAR
VERSION:2.0
PRODID:-//Aus- und Weiterbildung für Bibliotheken - ECPv6.15.17.1//NONSGML v1.0//EN
CALSCALE:GREGORIAN
METHOD:PUBLISH
X-WR-CALNAME:Aus- und Weiterbildung für Bibliotheken
X-ORIGINAL-URL:https://www.bibliotheksausbildung.at
X-WR-CALDESC:Veranstaltungen für Aus- und Weiterbildung für Bibliotheken
REFRESH-INTERVAL;VALUE=DURATION:PT1H
X-Robots-Tag:noindex
X-PUBLISHED-TTL:PT1H
BEGIN:VTIMEZONE
TZID:Europe/Vienna
BEGIN:DAYLIGHT
TZOFFSETFROM:+0100
TZOFFSETTO:+0200
TZNAME:CEST
DTSTART:20250330T010000
END:DAYLIGHT
BEGIN:STANDARD
TZOFFSETFROM:+0200
TZOFFSETTO:+0100
TZNAME:CET
DTSTART:20251026T010000
END:STANDARD
BEGIN:DAYLIGHT
TZOFFSETFROM:+0100
TZOFFSETTO:+0200
TZNAME:CEST
DTSTART:20260329T010000
END:DAYLIGHT
BEGIN:STANDARD
TZOFFSETFROM:+0200
TZOFFSETTO:+0100
TZNAME:CET
DTSTART:20261025T010000
END:STANDARD
BEGIN:DAYLIGHT
TZOFFSETFROM:+0100
TZOFFSETTO:+0200
TZNAME:CEST
DTSTART:20270328T010000
END:DAYLIGHT
BEGIN:STANDARD
TZOFFSETFROM:+0200
TZOFFSETTO:+0100
TZNAME:CET
DTSTART:20271031T010000
END:STANDARD
END:VTIMEZONE
BEGIN:VEVENT
DTSTART;TZID=Europe/Vienna:20260423T090000
DTEND;TZID=Europe/Vienna:20260423T123000
DTSTAMP:20260423T011758
CREATED:20251212T084914Z
LAST-MODIFIED:20260309T102359Z
UID:10000484-1776934800-1776947400@www.bibliotheksausbildung.at
SUMMARY:Effektive Strategien für wissenschaftliche Publikationen: Beratung und Unterstützung in der Praxis - AUSGEBUCHT
DESCRIPTION:Der Workshop informiert über die Funktionen\, Kontextbedingungen und Parameter des wissenschaftlichen Publizierens. Hierzu zählen etwa die Qualitätssicherung\, Auswahlkriterien geeigneter Publikationsorte\, wahrgenommene Qualität eines Journals/ Verlags\, empfehlenswerte Dokumenttypen und Qualitätsmessung. Er vermittelt den Teilnehmenden ein fundiertes Verständnis für diese Themenbereiche und versetzt sie in die Lage\, diese Kenntnisse im Arbeitsalltag z.B. in der Publikationsberatung oder verwandten (bibliothekarischen) Tätigkeiten anzuwenden. \nLernziele: Am Ende des Workshops sind die Teilnehmenden im Stande \n\nFunktionen\, Kontextbedingungen und Parameter des wissenschaftlichen Publizierens zu verstehen und nutzen\nQualitätssicherung und Qualitätsmessung geeigneter Journals und Dokumenttypen zu verstehen\nKenntnisse im Arbeitsalltag nutzen\n\nMethoden: Mischung aus Input-Phasen\, Fallbeispielen sowie interaktiven Sequenzen\, Raum für individuelle Fragen und Diskussionen \nVeranstaltungsort: ONLINE \nZielgruppe: In der Publikationsberatung tätige Personen aus Bibliotheken oder anderen Informationseinrichtungen sowie Personen\, die Einblicke in diese Thematik erlangen wollen. \nVortragende: Dr. Ulrich Herb | Informationswissenschaftler \nAnmeldeschluss: 13.04.2026 \nAnmeldungIch stimme der Verarbeitung meiner Daten gemäß der aktuell gültigen Datenschutzerklärung der Universitäts- und Landesbibliothek Tirol zu: https://www.uibk.ac.at/de/ulb/datenschutzinformation/  SendenVielen Dank! Ihre Nachricht wurde erfolgreich übermittelt. Wir werden uns so schnell wie möglich bei Ihnen melden. Ihr Team der ULB Tirol×Es gab ein Problem beim Senden Ihrer Nachricht. Bitte versuchen Sie es später erneut oder kontaktieren Sie uns direkt unter ulg-lis@uibk.ac.at×
URL:https://www.bibliotheksausbildung.at/meine-veranstaltung/effektive-strategien-fuer-wissenschaftliche-publikationen-beratung-und-unterstuetzung-in-der-praxis/
LOCATION:Online Veranstaltung
CATEGORIES:4L - Fortbildung
ATTACH;FMTTYPE=image/jpeg:https://www.bibliotheksausbildung.at/wp-content/uploads/2025/12/book-610189_640.jpg
ORGANIZER;CN="ULB Tirol":MAILTO:ulg-lis@uibk.ac.at
END:VEVENT
END:VCALENDAR