BEGIN:VCALENDAR
VERSION:2.0
PRODID:-//Aus- und Weiterbildung für Bibliotheken - ECPv6.15.17.1//NONSGML v1.0//EN
CALSCALE:GREGORIAN
METHOD:PUBLISH
X-ORIGINAL-URL:https://www.bibliotheksausbildung.at
X-WR-CALDESC:Veranstaltungen für Aus- und Weiterbildung für Bibliotheken
REFRESH-INTERVAL;VALUE=DURATION:PT1H
X-Robots-Tag:noindex
X-PUBLISHED-TTL:PT1H
BEGIN:VTIMEZONE
TZID:Europe/Vienna
BEGIN:DAYLIGHT
TZOFFSETFROM:+0100
TZOFFSETTO:+0200
TZNAME:CEST
DTSTART:20240331T010000
END:DAYLIGHT
BEGIN:STANDARD
TZOFFSETFROM:+0200
TZOFFSETTO:+0100
TZNAME:CET
DTSTART:20241027T010000
END:STANDARD
BEGIN:DAYLIGHT
TZOFFSETFROM:+0100
TZOFFSETTO:+0200
TZNAME:CEST
DTSTART:20250330T010000
END:DAYLIGHT
BEGIN:STANDARD
TZOFFSETFROM:+0200
TZOFFSETTO:+0100
TZNAME:CET
DTSTART:20251026T010000
END:STANDARD
BEGIN:DAYLIGHT
TZOFFSETFROM:+0100
TZOFFSETTO:+0200
TZNAME:CEST
DTSTART:20260329T010000
END:DAYLIGHT
BEGIN:STANDARD
TZOFFSETFROM:+0200
TZOFFSETTO:+0100
TZNAME:CET
DTSTART:20261025T010000
END:STANDARD
BEGIN:DAYLIGHT
TZOFFSETFROM:+0100
TZOFFSETTO:+0200
TZNAME:CEST
DTSTART:20270328T010000
END:DAYLIGHT
BEGIN:STANDARD
TZOFFSETFROM:+0200
TZOFFSETTO:+0100
TZNAME:CET
DTSTART:20271031T010000
END:STANDARD
END:VTIMEZONE
BEGIN:VEVENT
DTSTART;VALUE=DATE:20251104
DTEND;VALUE=DATE:20260217
DTSTAMP:20260426T054602
CREATED:20250613T114225Z
LAST-MODIFIED:20251021T074819Z
UID:10000078-1762214400-1771286399@www.bibliotheksausbildung.at
SUMMARY:Zertifikatskurs Bibliotheken führen
DESCRIPTION:Im digitalen Zeitalter werden Bibliotheken als Serviceeinrichtungen von neuen Entwicklungen geprägt. Das Zertifikatsprogramm zielt besonders auf solche Kenntnisse ab\, die für die Managementtätigkeit in Bibliotheken von Nutzen sind. \n\nAbschluss: Zertifikat der Universität Wien\nUmfang: 10 ECTS Credits\nDauer & Kosten: 1 Semester (berufsbegleitend)\, € 1.900\,-\n\n\n\n\n\n\nZielgruppe \nDas Zertifikatsprogramm richtet sich an Personen\, die den Universitätslehrgang „Library and Information Studies“ bzw. eine andere vergleichbare facheinschlägige Ausbildung absolviert haben und diese vor mindestens fünf Jahren abgeschlossen haben. \n\n\n\n\n\n\n\n\n\n\nQualifikationsprofil \nDie Teilnehmer*innen sollen ihre Kenntnisse auffrischen\, die sie im Rahmen einer mindestens fünf Jahre zurückliegenden facheinschlägigen Ausbildung erworben haben. Sie setzen sich mit den aktuellen Entwicklungen im Bibliothekswesen unter dem Aspekt des Bibliotheksmanagements\, bzw. des Bestandsmanagements auseinander und erhalten einen Überblick über die informationspolitische Gesamtentwicklung sowie die in Österreich vorherrschenden Strategien oder zukünftigen Entwicklungen.
URL:https://www.bibliotheksausbildung.at/meine-veranstaltung/zertifikatskurs-bibliotheken-fuehre/
LOCATION:DLE Bibliotheks- und Archivwesen\, Universität Wien\,\, Universitätsring 1\, Wien\, 1010
CATEGORIES:Zertifikatskurs
ATTACH;FMTTYPE=image/jpeg:https://www.bibliotheksausbildung.at/wp-content/uploads/2024/10/20190211_HG_Seminarraeume_neu_Gang_C_Barbara_Mair_022-min-scaled-e1742553042342.jpg
END:VEVENT
BEGIN:VEVENT
DTSTART;TZID=Europe/Vienna:20260112T100000
DTEND;TZID=Europe/Vienna:20260123T130000
DTSTAMP:20260426T054602
CREATED:20250825T122917Z
LAST-MODIFIED:20251126T133925Z
UID:10000082-1768212000-1769173200@www.bibliotheksausbildung.at
SUMMARY:Grundlagen der Formalerschließung nach RDA in MARC21 mit Alma - Online
DESCRIPTION:Der Workshop bietet eine Einführung in die Formalerfassung nach dem Regelwerk RDA. Durch zahlreiche praktische Übungen im Bibliothekssystem Alma und im Format MARC21 haben die Teilnehmenden die Möglichkeit\, die theoretischen Grundlagen in die Praxis umzusetzen. \nZielgruppe: Formalerschließungs-Anfänger*innen\, Interessierte mit Erfahrung in alten Systemen/Regelwerken/Formaten \nVoraussetzungen: keine \nTermine: 12.1.\, 14.1.\, 16.01.\, 19.01.\, 21.01.\, 23.01.2026 jeweils 10:00 – 13:30 Uhr \nOrt: Online-Seminar. Sie erhalten den Link kurz vor dem Seminar. \nVortragende: Mag. Isolde Baum\, Mag. Barbara Retschnig\, Mag. Bernhard Schubert\, BA MSc \nAnmeldelink: https://univie.eventsair.com/sem4lwise2025/grundlagenformalerschliessung/Site/Register
URL:https://www.bibliotheksausbildung.at/meine-veranstaltung/grundlagen-der-formalerschliessung-nach-rda-in-marc21-mit-alma-online/
LOCATION:DLE Bibliotheks- und Archivwesen\, Universität Wien\,\, Universitätsring 1\, Wien\, 1010
CATEGORIES:4L - Fortbildung
ATTACH;FMTTYPE=image/jpeg:https://www.bibliotheksausbildung.at/wp-content/uploads/2025/08/proxy-image.jpg
END:VEVENT
BEGIN:VEVENT
DTSTART;TZID=Europe/Vienna:20260115T083000
DTEND;TZID=Europe/Vienna:20260122T173000
DTSTAMP:20260426T054602
CREATED:20251203T133819Z
LAST-MODIFIED:20260107T103618Z
UID:10000473-1768465800-1769103000@www.bibliotheksausbildung.at
SUMMARY:Historische Bestände
DESCRIPTION:Der Wahlbereich Historische Bestände aus der fachlichen Spezialisierung des Universitätslehrganges Library and Information Studies vermittelt in zwei Lehrveranstaltungen kompaktes Grundwissen für den Umgang mit historischen Beständen als auch einen Überblick über Medien- und Verlagsgeschichte. \nDiese Lehrveranstaltungen werden von der Universität Wien in Kooperation mit der Österreichischen Nationalbibliothek angeboten. \nInhaltliche Schwerpunkte: \nVerwaltung von historischen Beständen (3 ECTS\, 2 Semesterstunden) \n\nTypen historischer Bestände und ihre besonderen Bedürfnisse\nErwerbung\, Erschließung\, Verwaltung und Umgang\nMediengeschichte\, Funktion\, Leitbild\n\nBuch- und Medienforschung (3 ECTS\, 2 Semesterstunden) \n\nBuch-\, Medien- und Verlagsgeschichte\nBuchforschung und -wissenschaft\nBuchdruck und Druckerpersönlichkeiten\nZensur- und Provenienzforschung\nMedienmarkt\, Verlagswesen und Buchhandel\nBestandsorientierte Bibliotheksarbeit\n\nMethoden: Vorlesung mit Übung (VU). Abhaltung vor Ort. LV-Typ: Prüfungsimmanente Lehrveranstaltung (pi). Die Leistungsbeurteilung setzt sich aus mündlich oder schriftlich zu erbringenden Teilleistungen zusammen. \nAbschluss:Sammelzeugnis der Universität Wien über 6 ECTS / 4 Semesterstunden \nZielgruppe: Bibliothekar*innen \nVoraussetzungen: allgemeine Hochschulreife nach Universitätsgesetz 2002 idgF \nVortragende: Dr. Julia Danielczyk MSc (Magistrat der Stadt Wien MA-7) / Mag. Katrin Jilek MA (ÖNB) / Mag. Dr. Katharina Kaska MA (ÖNB) / Mag. Monika Kiegler-Griensteidl (ÖNB) / Wolfgang Kreuzer (ÖNB) / Mag. Irina Morzé (Wienmuseum) / Dr. Patrick Poch MSc (ÖNB) / HR Prof. Mag. Markus Stumpf MSc (UBW) \nTermine: \n\n15.01.2026\, 16.01.2026\, 19.01.2026 von 8:30 -17:30 Uhr\n20.01.2026 bis 22.01.2026 von 8:30 -17:30 Uhr\n\nOrt: Österreichische Nationalbibliothek\, Ausbildungszentrum – Josefsplatz 1\, 1015 Wien \nWICHTIGE ZUSATZINFORMATIONEN: \nSie werden für ein Semester als Modulbucher*in (außerordentliche Studierende) an der Universität Wien inskribiert. \nAnmeldung: Bei Interesse informieren Sie uns bitte bis spätestens 06.01.2026 per E-Mail: alina.rezniczek@univie.ac.at und cc an magdalena.fellinger@onb.ac.at\, benjamin.eichhorn@onb.ac.at \nIm Anschluss und nach Maßgabe der vorhandenen Plätze erhalten Sie von uns den Anmeldelink ebenfalls via Mail. (Kontaktdaten siehe oben) \n\nKursplätze: 2\nKosten: EUR 1.200\,-\nAnmeldeschluss: 09.01.2025
URL:https://www.bibliotheksausbildung.at/meine-veranstaltung/historische-bestaende/
LOCATION:Österreichische Nationalbibliothek\, Josefsplatz 1\, 1015 Wien\, Austria
CATEGORIES:Wahlbereiche und -fächer ULG
ATTACH;FMTTYPE=image/jpeg:https://www.bibliotheksausbildung.at/wp-content/uploads/2024/10/20051108_UB_Grosser_Lesesaal_C_Franz_Pfluegl_008-min-scaled.jpg
END:VEVENT
END:VCALENDAR