BEGIN:VCALENDAR
VERSION:2.0
PRODID:-//Aus- und Weiterbildung für Bibliotheken - ECPv6.15.17.1//NONSGML v1.0//EN
CALSCALE:GREGORIAN
METHOD:PUBLISH
X-WR-CALNAME:Aus- und Weiterbildung für Bibliotheken
X-ORIGINAL-URL:https://www.bibliotheksausbildung.at
X-WR-CALDESC:Veranstaltungen für Aus- und Weiterbildung für Bibliotheken
REFRESH-INTERVAL;VALUE=DURATION:PT1H
X-Robots-Tag:noindex
X-PUBLISHED-TTL:PT1H
BEGIN:VTIMEZONE
TZID:Europe/Vienna
BEGIN:DAYLIGHT
TZOFFSETFROM:+0100
TZOFFSETTO:+0200
TZNAME:CEST
DTSTART:20250330T010000
END:DAYLIGHT
BEGIN:STANDARD
TZOFFSETFROM:+0200
TZOFFSETTO:+0100
TZNAME:CET
DTSTART:20251026T010000
END:STANDARD
BEGIN:DAYLIGHT
TZOFFSETFROM:+0100
TZOFFSETTO:+0200
TZNAME:CEST
DTSTART:20260329T010000
END:DAYLIGHT
BEGIN:STANDARD
TZOFFSETFROM:+0200
TZOFFSETTO:+0100
TZNAME:CET
DTSTART:20261025T010000
END:STANDARD
BEGIN:DAYLIGHT
TZOFFSETFROM:+0100
TZOFFSETTO:+0200
TZNAME:CEST
DTSTART:20270328T010000
END:DAYLIGHT
BEGIN:STANDARD
TZOFFSETFROM:+0200
TZOFFSETTO:+0100
TZNAME:CET
DTSTART:20271031T010000
END:STANDARD
END:VTIMEZONE
BEGIN:VEVENT
DTSTART;TZID=Europe/Vienna:20260521T083000
DTEND;TZID=Europe/Vienna:20260529T173000
DTSTAMP:20260422T153217
CREATED:20251203T122003Z
LAST-MODIFIED:20260304T085928Z
UID:10000470-1779352200-1780075800@www.bibliotheksausbildung.at
SUMMARY:Data Librarian
DESCRIPTION:Data Librarian \nDer Wahlbereich Data Librarian aus der fachlichen Spezialisierung des Universitätslehrganges Library and Information Studies vermittelt in zwei Lehrveranstaltungen einen Überblick über Repositorienmanagement\, den Life Cycle Management von digitalen Objekten\, Langzeitarchivierung sowie Finanzierungsmodelle und relevante technische Schnittstellen \nDiese Lehrveranstaltungen werden von der Universität Wien in Kooperation mit der Österreichischen Nationalbibliothek angeboten. \nInhaltliche Schwerpunkte: \n7a.3.1 Datenbasierte Wissensproduktion und -organisation (3 ECTS\, 2 Semesterstunden) \n\nMetadaten im Bereich Repositorien und Forschungsdaten\nRepositoriumsmanagement aus bibliothekarischer Sicht\nDatenstandards und -modellierung\nDatenselektion\, -analyse und -visualisierung\nDatenbereinigung\, -aggregation und Verlinkung\nWiederauffindbarkeit und -verwendung von Daten\n\n7a.3.2 Systemarchitekturen und Workflowmanagement  (3 ECTS\, 2 Semesterstunden) \n\nDigitales Workflowmodell\, Archivierung und (technische Löschbarkeit)\nLife Cycle Management von digitalen Objekten\nFinanzierungsmodelle\, Kostenschätzung und Ressourcenaufwand\nLangzeitarchivierung\, Datensicherung\nTechnische Schnittstellen und Datenkonversion\n\nMethoden: Vorlesung mit Übung (VU). Abhaltung vor Ort. LV-Typ: Prüfungsimmanente Lehrveranstaltung (pi). Die Leistungsbeurteilung setzt sich aus mündlich oder schriftlich zu erbringenden Teilleistungen zusammen. \nAbschluss: Sammelzeugnis der Universität Wien über 6 ECTS / 4 Semesterstunden \nZielgruppe: Bibliothekar*innen \nVoraussetzungen: allgemeine Universitätsreife gemäß dem Universitätsgesetz 2002 idgF. \nVortragende: Mag. Dr. Susanne Blumesberger MSc / UBW\, Dr. Sonja Fiala  MSc / UBW\, Dipl.-Ing. Raman Ganguly / UW\, Mag. Martin Gasteiner / UBW\, Christopher Pollin\, BA\, MA / UBG\, Mag. Christian Steiner / UBG \nTermine: \n\n7a.3.1: 21.05.2026\, 22.05.2026\, 26.05.2026 von 8:30 -17:30 Uhr\n7a.3.2 : 27.05.2026 – 29.05.2026 von 8:30 -17:30 Uhr\n\nOrt: Universitätsbibliothek Wien\, Großes Kurszimmer\, Universitätsring 1\, 1010 Wien \nWICHTIGE ZUSATZINFORMATIONEN: \nSie werden für ein Semester als Modulbucher*in (außerordentliche Studierende) an der Universität Wien inskribiert. \nAnmeldung: Bei Interesse informieren Sie uns bitte bis spätestens 01.05.2026 per E-Mail: alina.rezniczek@univie.ac.at und cc an magdalena.fellinger@onb.ac.at\, benjamin.eichhorn@onb.ac.at \nIm Anschluss und nach Maßgabe der vorhandenen Plätze erhalten Sie von uns den Anmeldelink ebenfalls via Mail. (Kontaktdaten siehe oben) \n\nKursplätze: 5\nKosten: EUR 1.200\,-\nAnmeldeschluss: 01.05.2026\n\n 
URL:https://www.bibliotheksausbildung.at/meine-veranstaltung/data-librarian-2/
LOCATION:Universitätsbibliothek Wien\, Universitätsring 1\, 1010 Wien\, Wien\, Austria
CATEGORIES:Wahlbereiche und -fächer ULG
ATTACH;FMTTYPE=image/jpeg:https://www.bibliotheksausbildung.at/wp-content/uploads/2025/11/AdobeStock_1529894649-scaled.jpeg
END:VEVENT
BEGIN:VEVENT
DTSTART;TZID=Europe/Vienna:20260601T083000
DTEND;TZID=Europe/Vienna:20260603T173000
DTSTAMP:20260422T153217
CREATED:20251203T130100Z
LAST-MODIFIED:20260304T085712Z
UID:10000478-1780302600-1780507800@www.bibliotheksausbildung.at
SUMMARY:Forschungsunterstützung und Open Science Support
DESCRIPTION:Forschungsunterstützung und Open Science Support \nDas Wahlfach Forschungsunterstützung und Open Science Support \n aus der fachlichen Spezialisierung des Universitätslehrganges Library and Information Studies befasst sich mit Services aus dem Bereich des Forschungsdatenmanagements. Schwerpunkte sind Wissenschaftskommunikation und Forschungsunterstützung\, Policies im Umgang mit offenen Forschungsdaten sowie rechtliche und ethische Aspekte. \nDiese Lehrveranstaltung wird von der Universität Wien in Kooperation mit der Österreichischen Nationalbibliothek angeboten. \nInhaltliche Schwerpunkte: \n7a.21  Forschungsunterstützung und Open Science Support  (3 ECTS / 2 SSt) \n\nWissenschaftskommunikation und unterstützende Services für Lehre und Forschung\nPolicies im Zusammenhang mit Open Science\, Open Access und Forschungsdaten\nOpen Science (z.B. Open Access\, Open Educational Resources\, Open Data) und die Rolle der Bibliothek\nForschungsdatenmanagement\nRechtliche und ethische Aspekte (z.B. Datenschutz\, Urheberrecht\, Lizenzvergabe\, Nutzungsbedingungen von Repositorien\, Nachhaltigkeit)\n\nMethoden: Vorlesung mit Übung (VU) LV-Typ: Prüfungsimmanente Lehrveranstaltung (pi). Die Leistungsbeurteilung setzt sich aus mündlich oder schriftlich zu erbringenden Teilleistungen zusammen. \nAbschluss: Sammelzeugnis der Universität Wien über 3 ECTS / 2 Semesterstunden \nZielgruppe: Bibliothekar*innen \nVoraussetzungen: allgemeine Universitätsreife gemäß dem Universitätsgesetz 2002 idgF \nVortragende: Lisa Hönegger BA BA MA / UBW \nTermine: \n01.06.2026 bis 03.06.2026\, 08.30 – 17.30 Uhr \nOrt: Universitätsbibliothek Wien / Großer Kursraum \n  \nWICHTIGE ZUSATZINFORMATIONEN: \nSie werden für ein Semester als Modulbucher*in (außerordentliche Studierende) an der Universität Wien inskribiert. \nAnmeldung: Bei Interesse informieren Sie uns bitte bis spätestens 15.05.2026 per E-Mail: alina.rezniczek@univie.ac.at und cc an magdalena.fellinger@onb.ac.at\, benjamin.eichhorn@onb.ac.at \nIm Anschluss und nach Maßgabe der vorhandenen Plätze erhalten Sie von uns den Anmeldelink ebenfalls via Mail. (Kontaktdaten siehe oben) \n\nKursplätze: 5\nKosten: EUR 600\nAnmeldeschluss: 15.05.2026
URL:https://www.bibliotheksausbildung.at/meine-veranstaltung/forschungsunterstuetzung-und-open-science-support-3/
LOCATION:Universitätsbibliothek Wien\, Universitätsring 1\, 1010 Wien\, Wien\, Austria
CATEGORIES:Wahlbereiche und -fächer ULG
ATTACH;FMTTYPE=image/jpeg:https://www.bibliotheksausbildung.at/wp-content/uploads/2025/10/AdobeStock_331629948-scaled.jpeg
END:VEVENT
BEGIN:VEVENT
DTSTART;TZID=Europe/Vienna:20260611T083000
DTEND;TZID=Europe/Vienna:20260615T173000
DTSTAMP:20260422T153217
CREATED:20251203T130452Z
LAST-MODIFIED:20260304T085524Z
UID:10000477-1781166600-1781544600@www.bibliotheksausbildung.at
SUMMARY:Forschungdatenmanagement
DESCRIPTION:Forschungsdatenmanagement \nDas Wahlfach Forschungsdatenmanagement aus der fachlichen Spezialisierung des Universitätslehrganges Library and Information Studies vermittelt befasst sich mit den Herausforderungen im Umgang mit Forschungsdaten\, deren Zugänglichmachung und Nachnutzung sowie zugrunde liegender Metadaten und Standards. \n  \nDiese Lehrveranstaltung wird von der Universität Wien in Kooperation mit der Österreichischen Nationalbibliothek angeboten. \nWF 7a.18 Forschungsdatenmanagement (3 SSt\, 2 ECTS) \nInhaltliche Schwerpunkte: \n\nForschungsdatenmanagement als Teil des Forschungsprozesses und der forschungsunterstützenden Services\nForschungsdaten: Organisation\, Verwaltung\, Erschließung\, Archivierung und Zugänglichmachung\nMetadaten\, Standards und Infrastrukturen\nDatenmanagementpläne\nFAIR Data und Forschungsdaten-Policies\nOpen Data\, Open Science und Nachvollziehbarkeit von Forschungsergebnissen\nRepositorien\nrechtliche und ethische Aspekte\n\nMethoden: Vorlesung mit Übung (VU) LV-Typ: Prüfungsimmanente Lehrveranstaltung (pi). Die Leistungsbeurteilung setzt sich aus mündlich oder schriftlich zu erbringenden Teilleistungen zusammen. \nAbschluss: Sammelzeugnis der Universität Wien über 3 ECTS / 2 Semesterstunden \nZielgruppe: Bibliothekar*innen \nVoraussetzungen: allgemeine Universitätsreife gemäß dem Universitätsgesetz 2002 idgF \nVortragende: Michael Feichtinger BA BSc MSc / UBW \nTermine: \n11.06.2026 -15.06.2026\, 08.30 – 17.30 Uhr \nOrt: Universitätsbibliothek Wien / Großer Kursraum \nWICHTIGE ZUSATZINFORMATIONEN: \nSie werden für ein Semester als Modulbucher*in (außerordentliche Studierende) an der Universität Wien inskribiert. \nAnmeldung: Bei Interesse informieren Sie uns bitte bis spätestens 15.05.2026 per E-Mail: alina.rezniczek@univie.ac.at und cc an magdalena.fellinger@onb.ac.at\, benjamin.eichhorn@onb.ac.at \nIm Anschluss und nach Maßgabe der vorhandenen Plätze erhalten Sie von uns den Anmeldelink ebenfalls via Mail. (Kontaktdaten siehe oben) \n\nKursplätze: 5\nKosten: EUR 600\,-\nAnmeldeschluss: 15.05.2026
URL:https://www.bibliotheksausbildung.at/meine-veranstaltung/forschungdatenmanagement/
LOCATION:Universitätsbibliothek Wien\, Universitätsring 1\, 1010 Wien\, Wien\, Austria
CATEGORIES:Wahlbereiche und -fächer ULG
ATTACH;FMTTYPE=image/jpeg:https://www.bibliotheksausbildung.at/wp-content/uploads/2016/03/biology_single_course_portfolio_2.jpg
END:VEVENT
END:VCALENDAR