BEGIN:VCALENDAR
VERSION:2.0
PRODID:-//Aus- und Weiterbildung für Bibliotheken - ECPv6.15.17.1//NONSGML v1.0//EN
CALSCALE:GREGORIAN
METHOD:PUBLISH
X-WR-CALNAME:Aus- und Weiterbildung für Bibliotheken
X-ORIGINAL-URL:https://www.bibliotheksausbildung.at
X-WR-CALDESC:Veranstaltungen für Aus- und Weiterbildung für Bibliotheken
REFRESH-INTERVAL;VALUE=DURATION:PT1H
X-Robots-Tag:noindex
X-PUBLISHED-TTL:PT1H
BEGIN:VTIMEZONE
TZID:Europe/Vienna
BEGIN:DAYLIGHT
TZOFFSETFROM:+0100
TZOFFSETTO:+0200
TZNAME:CEST
DTSTART:20240331T010000
END:DAYLIGHT
BEGIN:STANDARD
TZOFFSETFROM:+0200
TZOFFSETTO:+0100
TZNAME:CET
DTSTART:20241027T010000
END:STANDARD
BEGIN:DAYLIGHT
TZOFFSETFROM:+0100
TZOFFSETTO:+0200
TZNAME:CEST
DTSTART:20250330T010000
END:DAYLIGHT
BEGIN:STANDARD
TZOFFSETFROM:+0200
TZOFFSETTO:+0100
TZNAME:CET
DTSTART:20251026T010000
END:STANDARD
BEGIN:DAYLIGHT
TZOFFSETFROM:+0100
TZOFFSETTO:+0200
TZNAME:CEST
DTSTART:20260329T010000
END:DAYLIGHT
BEGIN:STANDARD
TZOFFSETFROM:+0200
TZOFFSETTO:+0100
TZNAME:CET
DTSTART:20261025T010000
END:STANDARD
BEGIN:DAYLIGHT
TZOFFSETFROM:+0100
TZOFFSETTO:+0200
TZNAME:CEST
DTSTART:20270328T010000
END:DAYLIGHT
BEGIN:STANDARD
TZOFFSETFROM:+0200
TZOFFSETTO:+0100
TZNAME:CET
DTSTART:20271031T010000
END:STANDARD
END:VTIMEZONE
BEGIN:VEVENT
DTSTART;TZID=Europe/Vienna:20260325T100000
DTEND;TZID=Europe/Vienna:20260325T160000
DTSTAMP:20260422T220151
CREATED:20260216T113609Z
LAST-MODIFIED:20260216T114838Z
UID:10000099-1774432800-1774454400@www.bibliotheksausbildung.at
SUMMARY:Historische Buntpapiere: Theorie und Praxis
DESCRIPTION:Der Workshop bietet eine Einführung in die faszinierende Welt der historischen Buntpapiere. Am Vormittag (10–12.30 Uhr) werden im theoretischen Teil Geschichte\, Herstellungstechniken sowie Methoden zur Erschließung und Beschreibung von Buntpapieren vermittelt. Anhand ausgewählter Beispiele aus dem historischen Bestand der Universitätsbibliothek Wien werden charakteristische Merkmale und Besonderheiten von Brokatpapiere über Marmorpapiere bis zu Modeldurckpapiere anschaulich vorgestellt. \nDer praktische Teil folgt nach der Mittagspause (12.30–13.30 Uhr) 13.30–16: Die Teilnehmenden haben die Möglichkeit\, die Kleisterpapiertechnik selbst auszuprobieren und ein eigenes Buntpapier kreativ zu gestalten. \nZeit: 25. März 2026\, von 10 – 16 Uhr \nOrt: Universitätsarchiv Wien\, Postgasse 9\, 1010 Wien \nVortragende: Ilse Mühlbacher und Christina Köstner-Pemsel \nAnmeldung: https://univie.eventsair.com/sem4lsose2026/buntpapiere \nAnmeldeschluss: 19.03.2026
URL:https://www.bibliotheksausbildung.at/meine-veranstaltung/historische-buntpapiere-theorie-und-praxis/
LOCATION:DLE Bibliotheks- und Archivwesen\, Universität Wien\,\, Universitätsring 1\, Wien\, 1010
CATEGORIES:4L - Fortbildung
ATTACH;FMTTYPE=image/jpeg:https://www.bibliotheksausbildung.at/wp-content/uploads/2025/11/Image00278.jpg
ORGANIZER;CN="Claudia Hausberger MSc":MAILTO:claudia.hausberger@univie.ac.at
END:VEVENT
BEGIN:VEVENT
DTSTART;TZID=Europe/Vienna:20260211T090000
DTEND;TZID=Europe/Vienna:20260211T130000
DTSTAMP:20260422T220151
CREATED:20251021T071721Z
LAST-MODIFIED:20251111T110542Z
UID:10000089-1770800400-1770814800@www.bibliotheksausbildung.at
SUMMARY:Stimmstark & Stimmfit: Kleine Veränderungen\, große Wirkung!
DESCRIPTION:Für Sie gehört Sprechen zum beruflichen Alltag. Dieser Workshop erlaubt es Ihnen\, mit praktischen Übungen an unterschiedlichen Aspekten des Sprechens zu arbeiten. \nTrainerin: Dagmar Kutzenberger\, Schauspielerin und Sprecherin. Website mit Sprechbeispielen: https://www.mikrostimme.at/ \nAmeldeschluss: 23.01.2026 \nAnmeldelink: https://univie.eventsair.com/sem4lwise2025/stimmstark-stimmfit
URL:https://www.bibliotheksausbildung.at/meine-veranstaltung/stimmstark-stimmfit-kleine-veraenderungen-grosse-wirkung/
LOCATION:DLE Bibliotheks- und Archivwesen\, Universität Wien\,\, Universitätsring 1\, Wien\, 1010
CATEGORIES:4L - Fortbildung
ATTACH;FMTTYPE=image/jpeg:https://www.bibliotheksausbildung.at/wp-content/uploads/2025/10/AdobeStock_865253436-scaled.jpeg
ORGANIZER;CN="Claudia Hausberger MSc":MAILTO:claudia.hausberger@univie.ac.at
END:VEVENT
BEGIN:VEVENT
DTSTART;TZID=Europe/Vienna:20251113T090000
DTEND;TZID=Europe/Vienna:20251113T160000
DTSTAMP:20260422T220151
CREATED:20250925T141904Z
LAST-MODIFIED:20251022T101700Z
UID:10000084-1763024400-1763049600@www.bibliotheksausbildung.at
SUMMARY:KI und Benutzer*innenschulungen
DESCRIPTION:In dieser Fortbildungsveranstaltung werden wir der Frage nachgehen\, welche Kompetenzen Bibliotheken Benutzer*innen vermitteln. Wir werden uns überlegen wie KI in unsere Services eingebunden werden kann und welche Vor- und Nachteile durch die Verwendung von KI entstehen. Wir werden unseren Fokus auf ethische Fragen richten und die Auswirkungen auf die gute wissenschaftliche Praxis erarbeiten. \nInhaltliche Schwerpunkte: KI\, Ethik und Bibliothekswesen \nZielgruppe: Bibliothekar*innen \nMethoden: Vortrag und Gruppenarbeit \nVoraussetzungen: Keine \nTermin und Ort: 13. November 2025\, von 9 – 16 Uhr im Kleinen Kursraum der UB Wien \nVortragende: Mag. Sonja Fiala \nAnmeldelink: https://univie.eventsair.com/sem4lwise2025/kiundbenutzerinnenschulungen
URL:https://www.bibliotheksausbildung.at/meine-veranstaltung/ki-und-benutzerinnenschulungen/
LOCATION:DLE Bibliotheks- und Archivwesen\, Universität Wien\,\, Universitätsring 1\, Wien\, 1010
CATEGORIES:4L - Fortbildung
ATTACH;FMTTYPE=image/jpeg:https://www.bibliotheksausbildung.at/wp-content/uploads/2025/09/AdobeStock_574183420_Preview.jpeg
ORGANIZER;CN="Claudia Hausberger MSc":MAILTO:claudia.hausberger@univie.ac.at
END:VEVENT
BEGIN:VEVENT
DTSTART;VALUE=DATE:20250527
DTEND;VALUE=DATE:20250529
DTSTAMP:20260422T220151
CREATED:20250429T121802Z
LAST-MODIFIED:20250429T121802Z
UID:10000073-1748304000-1748476799@www.bibliotheksausbildung.at
SUMMARY:Formalerschließung in Alma: Tipps und Tricks
DESCRIPTION:Dieser Kurs ist der Folgekurs von „Grundlagen der Formalerschließung nach RDA in MARC2 mit Alma“ mit dem Ziel\, das praktische Arbeiten in Alma zu erleichtern: gezeigt wird unter anderem\, wie Datensätze korrekt bearbeitet oder als Schreibvorlage verwendet werden können\, welche Arten von Verknüpfungen es gibt und wie diese sinnvoll und korrekt angewendet werden. Das Hauptaugenmerk liegt insbesondere auf dem richtigen Umgang mit den Daten im System\, und weniger auf MARC 21 oder auf dem Regelwerk RDA\, um ein gute Datenqualität und insbesondere Fehlervermeidung gewährleisten zu können. \nTeilnehmerinnen und Teilnehmer können gerne Fragestellungen aus der eigenen Praxis vorstellen\, damit diese gemeinsam behandelt werden können. \nZielgruppe: Formalerschließer*innen\, die bereits mit Alma arbeiten \nVoraussetzungen: Für Absolvent*innen derAlma-Grundschulung oder/und Kolleg*innen\, die regelmäßig mit Alma arbeiten \nTermine: 27. und 28. Mai 2025\, jeweils 10:00 – 13:30 Uhr \nOrt: Online-Seminar. Sie erhalten den Link kurz vor dem Seminar. \nVortragende: Mag. Isolde Baum\, Mag. Johanna Felsner \n\nKursplätze: 20\nKosten: EUR 160\nAnmeldeschluss: 20.05.2025\nAnmelden
URL:https://www.bibliotheksausbildung.at/meine-veranstaltung/formalerschliessung-in-alma-tipps-und-tricks/
LOCATION:DLE Bibliotheks- und Archivwesen\, Universität Wien\,\, Universitätsring 1\, Wien\, 1010
ATTACH;FMTTYPE=image/jpeg:https://www.bibliotheksausbildung.at/wp-content/uploads/2025/02/Nationalbibliothek_Imagefotos_Nov.23-095.jpg
ORGANIZER;CN="Claudia Hausberger MSc":MAILTO:claudia.hausberger@univie.ac.at
END:VEVENT
BEGIN:VEVENT
DTSTART;VALUE=DATE:20250429
DTEND;VALUE=DATE:20250430
DTSTAMP:20260422T220151
CREATED:20250429T121624Z
LAST-MODIFIED:20250429T122426Z
UID:10000072-1745884800-1745971199@www.bibliotheksausbildung.at
SUMMARY:Urheberrecht (Online)
DESCRIPTION:Urheberrecht ist auch im bibliothekarischen Alltag immer wieder von Bedeutung. Nach einer Einführung über die grundsätzlichen Regeln des Urheberrechts\, liegt der Schwerpunkt auf „freien Werknutzungen“\, die im universitären Umfeld eine immer größere Rolle spielen. \nInhaltliche Schwerpunkte: Freie Werknutzungen \nZielgruppe: Mitarbeiter*innen von Bibliotheks-\, Informations- und Dokumentationseinrichtungen \nVoraussetzungen: Keine \nVortragender: Dr. Thomas Luzer\, Leiter Fachbereichsbibliothek Recht\, Schottenbastei 10 – 16 \nTermin: Dienstag\, 20. Mai 2025 von 9 – 13 Uhr \nTeilnahme: Sie erhalten kurz vor dem Seminar einen Teilnahmelink zugeschickt. \n\nKursplätze: 30\nKosten: EUR 80\nAnmeldeschluss: 13.05.2025\nAnmelden
URL:https://www.bibliotheksausbildung.at/meine-veranstaltung/urheberrecht-online/
LOCATION:Online Veranstaltung
ATTACH;FMTTYPE=image/jpeg:https://www.bibliotheksausbildung.at/wp-content/uploads/2024/10/OeNB001-min.jpg
ORGANIZER;CN="Claudia Hausberger MSc":MAILTO:claudia.hausberger@univie.ac.at
END:VEVENT
END:VCALENDAR